BEGIN:VCALENDAR
VERSION:2.0
PRODID:-//WANSTEAD FRINGE - ECPv6.15.20//NONSGML v1.0//EN
CALSCALE:GREGORIAN
METHOD:PUBLISH
X-WR-CALNAME:WANSTEAD FRINGE
X-ORIGINAL-URL:https://wansteadfringe.org
X-WR-CALDESC:Events for WANSTEAD FRINGE
REFRESH-INTERVAL;VALUE=DURATION:PT1H
X-Robots-Tag:noindex
X-PUBLISHED-TTL:PT1H
BEGIN:VTIMEZONE
TZID:Europe/London
BEGIN:DAYLIGHT
TZOFFSETFROM:+0000
TZOFFSETTO:+0100
TZNAME:BST
DTSTART:20240331T010000
END:DAYLIGHT
BEGIN:STANDARD
TZOFFSETFROM:+0100
TZOFFSETTO:+0000
TZNAME:GMT
DTSTART:20241027T010000
END:STANDARD
BEGIN:DAYLIGHT
TZOFFSETFROM:+0000
TZOFFSETTO:+0100
TZNAME:BST
DTSTART:20250330T010000
END:DAYLIGHT
BEGIN:STANDARD
TZOFFSETFROM:+0100
TZOFFSETTO:+0000
TZNAME:GMT
DTSTART:20251026T010000
END:STANDARD
BEGIN:DAYLIGHT
TZOFFSETFROM:+0000
TZOFFSETTO:+0100
TZNAME:BST
DTSTART:20260329T010000
END:DAYLIGHT
BEGIN:STANDARD
TZOFFSETFROM:+0100
TZOFFSETTO:+0000
TZNAME:GMT
DTSTART:20261025T010000
END:STANDARD
END:VTIMEZONE
BEGIN:VEVENT
DTSTART;TZID=Europe/London:20250914T110000
DTEND;TZID=Europe/London:20250914T130000
DTSTAMP:20260423T125713
CREATED:20250711T152507Z
LAST-MODIFIED:20250907T213241Z
UID:17411-1757847600-1757854800@wansteadfringe.org
SUMMARY:Wanstead & Snaresbrook Walking Tour
DESCRIPTION:Discover the history of Wanstead village and Snaresbrook on this entertaining guided walk.   \nVisit interesting places and learn about interesting people connected with the area in the past. The walk starts at St. Mary’s Church (the only grade 1 listed building in Redbridge) – in Overton Drive between the Cricket Club and the Golf Club. \nStops include: \n\nSt Mary’s Church – start point\n Clock Court (former Wanstead hospital)\nSnaresbrook Crown Court\nChrist Church\nUnited Reform Church\nThe George and Dragon – where the walk ends\n\nDetails: \n\nDuration: Approx. 2 hours \nDistance: Approx. 3 miles\nTickets: FREE event but requires ticket (limit of 15 per session)
URL:https://wansteadfringe.org/event/wanstead-snaresbrook-walking-tour-14sept/
LOCATION:All around Wanstead\, Wanstead\, London\, United Kingdom
CATEGORIES:HISTORY,LOCAL HISTORY,TOURS
ATTACH;FMTTYPE=image/jpeg:https://wansteadfringe.org/wp-content/uploads/2025/07/Wanstead_fountain_18384688258.jpg
END:VEVENT
BEGIN:VEVENT
DTSTART;TZID=Europe/London:20250914T200000
DTEND;TZID=Europe/London:20250914T220000
DTSTAMP:20260423T125713
CREATED:20250809T124921Z
LAST-MODIFIED:20250902T204706Z
UID:17981-1757880000-1757887200@wansteadfringe.org
SUMMARY:Wanstead Fringe Comedy Night feat. Paul Sinha
DESCRIPTION:A regular and much-loved favourite at the Wanstead Fringe\, Paul Sinha from ITV’s The Chase returns with his trademark mix of wit\, warmth and razor-sharp comedy. He’s joined by Stephen Owen\, Jamie D’Souza and Mags McHugh\, with the irrepressible Graeme Matthews as MC. An unmissable night of top-class stand-up.
URL:https://wansteadfringe.org/event/wanstead-comedy-night-2025/
LOCATION:Eton Manor Rugby Club\, The New Wilderness\, Nutter Lane\, Wanstead\, E11 2JA
CATEGORIES:COMEDY,PERFORMANCE
ATTACH;FMTTYPE=image/jpeg:https://wansteadfringe.org/wp-content/uploads/2021/07/paul-sinha169.jpg
ORGANIZER;CN="Wanstead Comedy Night":MAILTO:jonfentiman@hotmail.com
END:VEVENT
END:VCALENDAR