BEGIN:VCALENDAR
VERSION:2.0
PRODID:-//WANSTEAD FRINGE - ECPv6.15.20//NONSGML v1.0//EN
CALSCALE:GREGORIAN
METHOD:PUBLISH
X-ORIGINAL-URL:https://wansteadfringe.org
X-WR-CALDESC:Events for WANSTEAD FRINGE
REFRESH-INTERVAL;VALUE=DURATION:PT1H
X-Robots-Tag:noindex
X-PUBLISHED-TTL:PT1H
BEGIN:VTIMEZONE
TZID:Europe/London
BEGIN:DAYLIGHT
TZOFFSETFROM:+0000
TZOFFSETTO:+0100
TZNAME:BST
DTSTART:20240331T010000
END:DAYLIGHT
BEGIN:STANDARD
TZOFFSETFROM:+0100
TZOFFSETTO:+0000
TZNAME:GMT
DTSTART:20241027T010000
END:STANDARD
BEGIN:DAYLIGHT
TZOFFSETFROM:+0000
TZOFFSETTO:+0100
TZNAME:BST
DTSTART:20250330T010000
END:DAYLIGHT
BEGIN:STANDARD
TZOFFSETFROM:+0100
TZOFFSETTO:+0000
TZNAME:GMT
DTSTART:20251026T010000
END:STANDARD
BEGIN:DAYLIGHT
TZOFFSETFROM:+0000
TZOFFSETTO:+0100
TZNAME:BST
DTSTART:20260329T010000
END:DAYLIGHT
BEGIN:STANDARD
TZOFFSETFROM:+0100
TZOFFSETTO:+0000
TZNAME:GMT
DTSTART:20261025T010000
END:STANDARD
END:VTIMEZONE
BEGIN:VEVENT
DTSTART;TZID=Europe/London:20250914T110000
DTEND;TZID=Europe/London:20250914T180000
DTSTAMP:20260419T184707
CREATED:20250712T105524Z
LAST-MODIFIED:20250903T133707Z
UID:17553-1757847600-1757872800@wansteadfringe.org
SUMMARY:Wanstead Festival 2025
DESCRIPTION:This is the big one – the festival that Wanstead Fringe eh… fringes! \nThe Annual Wanstead Festival will take place on Christchurch Green showcasing all things Wanstead. This popular event in leafy Wanstead regularly attracts thousands of people who come together to enjoy a fun-filled day of music & dance\, food & drink\, arts & crafts\, rides & activities\, sports & games for all the family. \nOur biggest outdoor event of the year\, Wanstead Festival is just around the corner! Join us for a full day of family fun on Sunday\, 14 September\, from 11am to 6pm at Christchurch Green in Wanstead. \n\nEntry is FREE to Wanstead Festival\, as are most of the activities on the day\nFor more information: Wanstead Festival 2025 (Vision RCL)
URL:https://wansteadfringe.org/event/wanstead-festival-2025/
LOCATION:Christchurch Green\, Woodbine Place\, Wanstead\, E11 2RH\, United Kingdom
CATEGORIES:FOOD & DRINK,MARKETS,MUSIC
ATTACH;FMTTYPE=image/png:https://wansteadfringe.org/wp-content/uploads/2025/07/wanstead_fest25-1.png
END:VEVENT
END:VCALENDAR