BEGIN:VCALENDAR
VERSION:2.0
PRODID:-//WANSTEAD FRINGE - ECPv6.15.20//NONSGML v1.0//EN
CALSCALE:GREGORIAN
METHOD:PUBLISH
X-ORIGINAL-URL:https://wansteadfringe.org
X-WR-CALDESC:Events for WANSTEAD FRINGE
REFRESH-INTERVAL;VALUE=DURATION:PT1H
X-Robots-Tag:noindex
X-PUBLISHED-TTL:PT1H
BEGIN:VTIMEZONE
TZID:Europe/London
BEGIN:DAYLIGHT
TZOFFSETFROM:+0000
TZOFFSETTO:+0100
TZNAME:BST
DTSTART:20240331T010000
END:DAYLIGHT
BEGIN:STANDARD
TZOFFSETFROM:+0100
TZOFFSETTO:+0000
TZNAME:GMT
DTSTART:20241027T010000
END:STANDARD
BEGIN:DAYLIGHT
TZOFFSETFROM:+0000
TZOFFSETTO:+0100
TZNAME:BST
DTSTART:20250330T010000
END:DAYLIGHT
BEGIN:STANDARD
TZOFFSETFROM:+0100
TZOFFSETTO:+0000
TZNAME:GMT
DTSTART:20251026T010000
END:STANDARD
BEGIN:DAYLIGHT
TZOFFSETFROM:+0000
TZOFFSETTO:+0100
TZNAME:BST
DTSTART:20260329T010000
END:DAYLIGHT
BEGIN:STANDARD
TZOFFSETFROM:+0100
TZOFFSETTO:+0000
TZNAME:GMT
DTSTART:20261025T010000
END:STANDARD
END:VTIMEZONE
BEGIN:VEVENT
DTSTART;TZID=Europe/London:20250927T120000
DTEND;TZID=Europe/London:20250927T210000
DTSTAMP:20260419T135257
CREATED:20250808T155743Z
LAST-MODIFIED:20250903T100630Z
UID:18328-1758974400-1759006800@wansteadfringe.org
SUMMARY:Garden Closing Party @ The Duke
DESCRIPTION:The Duke’s Garden Finale! Enjoy our last BBQ of the summer\, served from 12pm\, with DJs from 9pm – LATE. \n\n\n30% off all drinks from 7pm for the amazing fringe volunteers and hospitality workers – our way of saying thank you for all your hard work this year. \n\n\nCome celebrate\, unwind\, and share your fun fringe stories with locals alike. \n\n\nFREE ENTRY. Book ahead to secure your table at THE DUKE.
URL:https://wansteadfringe.org/event/official-garden-closing-party-volunteer-special-at-the-duke/
LOCATION:The Duke\, 79 Nightingale Lane\, Wanstead\, E11 2EY
CATEGORIES:FOOD & DRINK
ATTACH;FMTTYPE=image/png:https://wansteadfringe.org/wp-content/uploads/2025/08/8-scaled.png
ORGANIZER;CN="The Duke":MAILTO:dining@thedukewanstead.com
END:VEVENT
END:VCALENDAR