BEGIN:VCALENDAR
VERSION:2.0
PRODID:-//WANSTEAD FRINGE - ECPv6.15.20//NONSGML v1.0//EN
CALSCALE:GREGORIAN
METHOD:PUBLISH
X-WR-CALNAME:WANSTEAD FRINGE
X-ORIGINAL-URL:https://wansteadfringe.org
X-WR-CALDESC:Events for WANSTEAD FRINGE
REFRESH-INTERVAL;VALUE=DURATION:PT1H
X-Robots-Tag:noindex
X-PUBLISHED-TTL:PT1H
BEGIN:VTIMEZONE
TZID:Europe/London
BEGIN:DAYLIGHT
TZOFFSETFROM:+0000
TZOFFSETTO:+0100
TZNAME:BST
DTSTART:20240331T010000
END:DAYLIGHT
BEGIN:STANDARD
TZOFFSETFROM:+0100
TZOFFSETTO:+0000
TZNAME:GMT
DTSTART:20241027T010000
END:STANDARD
BEGIN:DAYLIGHT
TZOFFSETFROM:+0000
TZOFFSETTO:+0100
TZNAME:BST
DTSTART:20250330T010000
END:DAYLIGHT
BEGIN:STANDARD
TZOFFSETFROM:+0100
TZOFFSETTO:+0000
TZNAME:GMT
DTSTART:20251026T010000
END:STANDARD
BEGIN:DAYLIGHT
TZOFFSETFROM:+0000
TZOFFSETTO:+0100
TZNAME:BST
DTSTART:20260329T010000
END:DAYLIGHT
BEGIN:STANDARD
TZOFFSETFROM:+0100
TZOFFSETTO:+0000
TZNAME:GMT
DTSTART:20261025T010000
END:STANDARD
END:VTIMEZONE
BEGIN:VEVENT
DTSTART;TZID=Europe/London:20250916T170000
DTEND;TZID=Europe/London:20250916T213000
DTSTAMP:20260421T105054
CREATED:20250808T145548Z
LAST-MODIFIED:20250808T150228Z
UID:18306-1758042000-1758058200@wansteadfringe.org
SUMMARY:Tavern Taco Tour
DESCRIPTION:Leytonstone Tavern brings their award-winning tacos to The Duke’s kitchen for a flavour-packed takeover! \n\n\n\n🎟️ Pre-book 3 tacos for just £10 – perfect for a midweek treat. \n\n\n\nPair with one of our legendary East London tequila cocktails – the perfect match for taco night. \n\n\nSeating is first come\, first served\, and you’ll be shown to your table on arrival. \nNB: Please purchase ticket here and contact THE DUKE to book your table time.
URL:https://wansteadfringe.org/event/tavern-taco-tour/
LOCATION:The Duke\, 79 Nightingale Lane\, Wanstead\, E11 2EY
CATEGORIES:FOOD & DRINK
ATTACH;FMTTYPE=image/png:https://wansteadfringe.org/wp-content/uploads/2025/08/4-scaled.png
ORGANIZER;CN="The Duke":MAILTO:dining@thedukewanstead.com
END:VEVENT
END:VCALENDAR