BEGIN:VCALENDAR
VERSION:2.0
PRODID:-//WANSTEAD FRINGE - ECPv6.15.20//NONSGML v1.0//EN
CALSCALE:GREGORIAN
METHOD:PUBLISH
X-ORIGINAL-URL:https://wansteadfringe.org
X-WR-CALDESC:Events for WANSTEAD FRINGE
REFRESH-INTERVAL;VALUE=DURATION:PT1H
X-Robots-Tag:noindex
X-PUBLISHED-TTL:PT1H
BEGIN:VTIMEZONE
TZID:Europe/London
BEGIN:DAYLIGHT
TZOFFSETFROM:+0000
TZOFFSETTO:+0100
TZNAME:BST
DTSTART:20240331T010000
END:DAYLIGHT
BEGIN:STANDARD
TZOFFSETFROM:+0100
TZOFFSETTO:+0000
TZNAME:GMT
DTSTART:20241027T010000
END:STANDARD
BEGIN:DAYLIGHT
TZOFFSETFROM:+0000
TZOFFSETTO:+0100
TZNAME:BST
DTSTART:20250330T010000
END:DAYLIGHT
BEGIN:STANDARD
TZOFFSETFROM:+0100
TZOFFSETTO:+0000
TZNAME:GMT
DTSTART:20251026T010000
END:STANDARD
BEGIN:DAYLIGHT
TZOFFSETFROM:+0000
TZOFFSETTO:+0100
TZNAME:BST
DTSTART:20260329T010000
END:DAYLIGHT
BEGIN:STANDARD
TZOFFSETFROM:+0100
TZOFFSETTO:+0000
TZNAME:GMT
DTSTART:20261025T010000
END:STANDARD
END:VTIMEZONE
BEGIN:VEVENT
DTSTART;TZID=Europe/London:20250912T193000
DTEND;TZID=Europe/London:20250912T213000
DTSTAMP:20260423T174524
CREATED:20250809T120307Z
LAST-MODIFIED:20250902T145421Z
UID:18536-1757705400-1757712600@wansteadfringe.org
SUMMARY:Piano Recital: Yuki Negishi
DESCRIPTION:Featuring works by Ravel\, Chopin\, Scarlatti and Beethoven\, played by international concert pianist Yuki Negishi.
URL:https://wansteadfringe.org/event/piano-recital-yuki-negishi/
LOCATION:Holy Trinity Church\, 185 Hermon Hill\, Wanstead\, E18 1QQ
CATEGORIES:MUSIC
ATTACH;FMTTYPE=image/png:https://wansteadfringe.org/wp-content/uploads/2025/08/yuki.png
ORGANIZER;CN="Abi Todd":MAILTO:abi.todd@htsw.org.uk
END:VEVENT
END:VCALENDAR